Package: rawDiag Version: 1.3.4 Command: /home/biocbuild/bbs-3.21-bioc/R/bin/R CMD check --install=check:rawDiag.install-out.txt --library=/home/biocbuild/bbs-3.21-bioc/R/site-library --timings rawDiag_1.3.4.tar.gz StartedAt: 2025-02-20 01:33:29 -0500 (Thu, 20 Feb 2025) EndedAt: 2025-02-20 01:35:51 -0500 (Thu, 20 Feb 2025) EllapsedTime: 142.3 seconds RetCode: 0 Status: OK CheckDir: rawDiag.Rcheck Warnings: 0