Package: rawDiag Version: 1.3.4 Command: /home/biocbuild/bbs-3.21-bioc/R/bin/R CMD build --keep-empty-dirs --no-resave-data rawDiag StartedAt: 2025-02-19 18:47:04 -0500 (Wed, 19 Feb 2025) EndedAt: 2025-02-19 18:48:13 -0500 (Wed, 19 Feb 2025) EllapsedTime: 69.1 seconds RetCode: 0 Status: OK PackageFile: rawDiag_1.3.4.tar.gz PackageFileSize: 2.15 MiB