Package: randPack Version: 1.53.0 Command: E:\biocbuild\bbs-3.21-bioc\R\bin\R.exe CMD check --no-multiarch --install=check:randPack.install-out.txt --library=E:\biocbuild\bbs-3.21-bioc\R\library --no-vignettes --timings randPack_1.53.0.tar.gz StartedAt: 2025-02-19 04:21:42 -0500 (Wed, 19 Feb 2025) EndedAt: 2025-02-19 04:22:20 -0500 (Wed, 19 Feb 2025) EllapsedTime: 38.6 seconds RetCode: 0 Status: OK CheckDir: randPack.Rcheck Warnings: 0