Package: randPack Version: 1.53.0 Command: chmod a+r randPack -R && E:\biocbuild\bbs-3.21-bioc\R\bin\R.exe CMD build --keep-empty-dirs --no-resave-data randPack StartedAt: 2025-02-18 20:56:54 -0500 (Tue, 18 Feb 2025) EndedAt: 2025-02-18 20:57:11 -0500 (Tue, 18 Feb 2025) EllapsedTime: 16.5 seconds RetCode: 0 Status: OK PackageFile: randPack_1.53.0.tar.gz PackageFileSize: 144.3 KiB