Package: randPack Version: 1.53.0 Command: rm -rf randPack.buildbin-libdir && mkdir randPack.buildbin-libdir && E:\biocbuild\bbs-3.21-bioc\R\bin\R.exe CMD INSTALL --build --library=randPack.buildbin-libdir randPack_1.53.0.tar.gz StartedAt: 2025-02-19 08:10:00 -0500 (Wed, 19 Feb 2025) EndedAt: 2025-02-19 08:10:23 -0500 (Wed, 19 Feb 2025) EllapsedTime: 23.5 seconds RetCode: 0 Status: OK PackageFile: randPack_1.53.0.zip PackageFileSize: 356.1 KiB