Package: ramwas Version: 1.31.0 Command: E:\biocbuild\bbs-3.21-bioc\R\bin\R.exe CMD INSTALL ramwas StartedAt: 2025-02-20 16:08:08 -0500 (Thu, 20 Feb 2025) EndedAt: 2025-02-20 16:09:11 -0500 (Thu, 20 Feb 2025) EllapsedTime: 62.8 seconds RetCode: 0 Status: OK