Package: ramwas Version: 1.31.0 Command: rm -rf ramwas.buildbin-libdir && mkdir ramwas.buildbin-libdir && E:\biocbuild\bbs-3.21-bioc\R\bin\R.exe CMD INSTALL --build --library=ramwas.buildbin-libdir ramwas_1.31.0.tar.gz StartedAt: 2025-02-21 08:50:54 -0500 (Fri, 21 Feb 2025) EndedAt: 2025-02-21 08:52:08 -0500 (Fri, 21 Feb 2025) EllapsedTime: 74.4 seconds RetCode: 0 Status: OK PackageFile: ramwas_1.31.0.zip PackageFileSize: 2.507 MiB