Package: ramwas Version: 1.31.0 Command: /home/biocbuild/bbs-3.21-bioc/R/bin/R CMD check --install=check:ramwas.install-out.txt --library=/home/biocbuild/bbs-3.21-bioc/R/site-library --timings ramwas_1.31.0.tar.gz StartedAt: 2025-02-21 00:59:38 -0500 (Fri, 21 Feb 2025) EndedAt: 2025-02-21 01:08:01 -0500 (Fri, 21 Feb 2025) EllapsedTime: 503.1 seconds RetCode: 0 Status: OK CheckDir: ramwas.Rcheck Warnings: 0