Package: ramwas Version: 1.31.0 Command: /home/biocbuild/bbs-3.21-bioc/R/bin/R CMD build --keep-empty-dirs --no-resave-data ramwas StartedAt: 2025-02-20 18:51:09 -0500 (Thu, 20 Feb 2025) EndedAt: 2025-02-20 18:55:18 -0500 (Thu, 20 Feb 2025) EllapsedTime: 249.3 seconds RetCode: 0 Status: OK PackageFile: ramwas_1.31.0.tar.gz PackageFileSize: 3.211 MiB