Package: ramr Version: 1.15.1 Command: E:\biocbuild\bbs-3.21-bioc\R\bin\R.exe CMD check --no-multiarch --install=check:ramr.install-out.txt --library=E:\biocbuild\bbs-3.21-bioc\R\library --no-vignettes --timings ramr_1.15.1.tar.gz StartedAt: 2025-02-20 04:29:02 -0500 (Thu, 20 Feb 2025) EndedAt: 2025-02-20 04:34:56 -0500 (Thu, 20 Feb 2025) EllapsedTime: 353.9 seconds RetCode: 0 Status: OK CheckDir: ramr.Rcheck Warnings: 0