Package: ramr Version: 1.15.1 Command: rm -rf ramr.buildbin-libdir && mkdir ramr.buildbin-libdir && E:\biocbuild\bbs-3.21-bioc\R\bin\R.exe CMD INSTALL --build --library=ramr.buildbin-libdir ramr_1.15.1.tar.gz StartedAt: 2025-02-20 08:31:05 -0500 (Thu, 20 Feb 2025) EndedAt: 2025-02-20 08:31:29 -0500 (Thu, 20 Feb 2025) EllapsedTime: 24.2 seconds RetCode: 0 Status: OK PackageFile: ramr_1.15.1.zip PackageFileSize: 2.197 MiB