Package: ramr Version: 1.15.1 Command: /home/biocbuild/bbs-3.21-bioc/R/bin/R CMD check --install=check:ramr.install-out.txt --library=/home/biocbuild/bbs-3.21-bioc/R/site-library --timings ramr_1.15.1.tar.gz StartedAt: 2025-02-21 00:59:30 -0500 (Fri, 21 Feb 2025) EndedAt: 2025-02-21 01:04:37 -0500 (Fri, 21 Feb 2025) EllapsedTime: 307.6 seconds RetCode: 0 Status: OK CheckDir: ramr.Rcheck Warnings: 0