Package: ramr Version: 1.15.1 Command: /home/biocbuild/bbs-3.21-bioc/R/bin/R CMD build --keep-empty-dirs --no-resave-data ramr StartedAt: 2025-02-19 18:46:33 -0500 (Wed, 19 Feb 2025) EndedAt: 2025-02-19 18:47:57 -0500 (Wed, 19 Feb 2025) EllapsedTime: 84.1 seconds RetCode: 0 Status: OK PackageFile: ramr_1.15.1.tar.gz PackageFileSize: 2.571 MiB