Package: ramr Version: 1.15.1 Command: /Library/Frameworks/R.framework/Resources/bin/R CMD check --install=check:ramr.install-out.txt --library=/Library/Frameworks/R.framework/Resources/library --no-vignettes --timings ramr_1.15.1.tar.gz StartedAt: 2025-02-20 22:36:53 -0500 (Thu, 20 Feb 2025) EndedAt: 2025-02-20 22:41:42 -0500 (Thu, 20 Feb 2025) EllapsedTime: 289.3 seconds RetCode: 0 Status: OK CheckDir: ramr.Rcheck Warnings: 0