Package: ramr Version: 1.15.1 Command: /Library/Frameworks/R.framework/Resources/bin/R CMD build --keep-empty-dirs --no-resave-data ramr StartedAt: 2025-02-20 17:54:26 -0500 (Thu, 20 Feb 2025) EndedAt: 2025-02-20 17:56:01 -0500 (Thu, 20 Feb 2025) EllapsedTime: 95.1 seconds RetCode: 0 Status: OK PackageFile: ramr_1.15.1.tar.gz PackageFileSize: 2.667 MiB