Package: ramr Version: 1.15.1 Command: /Library/Frameworks/R.framework/Resources/bin/R CMD INSTALL ramr StartedAt: 2025-02-20 15:22:05 -0500 (Thu, 20 Feb 2025) EndedAt: 2025-02-20 15:22:11 -0500 (Thu, 20 Feb 2025) EllapsedTime: 5.9 seconds RetCode: 0 Status: OK