Package: ramr Version: 1.15.1 Command: /Library/Frameworks/R.framework/Resources/bin/R CMD check --install=check:ramr.install-out.txt --library=/Library/Frameworks/R.framework/Resources/library --no-vignettes --timings ramr_1.15.1.tar.gz StartedAt: 2025-02-20 20:54:07 -0500 (Thu, 20 Feb 2025) EndedAt: 2025-02-20 20:55:37 -0500 (Thu, 20 Feb 2025) EllapsedTime: 90.1 seconds RetCode: 0 Status: OK CheckDir: ramr.Rcheck Warnings: 0