Package: rain Version: 1.41.0 Command: E:\biocbuild\bbs-3.21-bioc\R\bin\R.exe CMD INSTALL rain StartedAt: 2025-02-20 15:58:18 -0500 (Thu, 20 Feb 2025) EndedAt: 2025-02-20 15:58:28 -0500 (Thu, 20 Feb 2025) EllapsedTime: 10.6 seconds RetCode: 0 Status: OK