Package: rain Version: 1.41.0 Command: chmod a+r rain -R && E:\biocbuild\bbs-3.21-bioc\R\bin\R.exe CMD build --keep-empty-dirs --no-resave-data rain StartedAt: 2025-02-20 21:04:14 -0500 (Thu, 20 Feb 2025) EndedAt: 2025-02-20 21:04:52 -0500 (Thu, 20 Feb 2025) EllapsedTime: 38.4 seconds RetCode: 0 Status: OK PackageFile: rain_1.41.0.tar.gz PackageFileSize: 605.4 KiB