Package: rain Version: 1.41.0 Command: rm -rf rain.buildbin-libdir && mkdir rain.buildbin-libdir && E:\biocbuild\bbs-3.21-bioc\R\bin\R.exe CMD INSTALL --build --library=rain.buildbin-libdir rain_1.41.0.tar.gz StartedAt: 2025-02-21 08:50:50 -0500 (Fri, 21 Feb 2025) EndedAt: 2025-02-21 08:51:07 -0500 (Fri, 21 Feb 2025) EllapsedTime: 16.7 seconds RetCode: 0 Status: OK PackageFile: rain_1.41.0.zip PackageFileSize: 635.6 KiB