Package: rain Version: 1.41.0 Command: /home/biocbuild/bbs-3.21-bioc/R/bin/R CMD build --keep-empty-dirs --no-resave-data rain StartedAt: 2025-02-20 18:50:39 -0500 (Thu, 20 Feb 2025) EndedAt: 2025-02-20 18:51:10 -0500 (Thu, 20 Feb 2025) EllapsedTime: 31.0 seconds RetCode: 0 Status: OK PackageFile: rain_1.41.0.tar.gz PackageFileSize: 604.3 KiB