Package: rain Version: 1.41.0 Command: /Library/Frameworks/R.framework/Resources/bin/R CMD INSTALL rain StartedAt: 2025-02-20 15:34:49 -0500 (Thu, 20 Feb 2025) EndedAt: 2025-02-20 15:34:59 -0500 (Thu, 20 Feb 2025) EllapsedTime: 10.3 seconds RetCode: 0 Status: OK