Package: rain Version: 1.41.0 Command: /Library/Frameworks/R.framework/Resources/bin/R CMD check --install=check:rain.install-out.txt --library=/Library/Frameworks/R.framework/Resources/library --no-vignettes --timings rain_1.41.0.tar.gz StartedAt: 2025-02-20 22:36:52 -0500 (Thu, 20 Feb 2025) EndedAt: 2025-02-20 22:37:54 -0500 (Thu, 20 Feb 2025) EllapsedTime: 61.9 seconds RetCode: 0 Status: OK CheckDir: rain.Rcheck Warnings: 0