Package: rain Version: 1.41.0 Command: /Library/Frameworks/R.framework/Resources/bin/R CMD build --keep-empty-dirs --no-resave-data rain StartedAt: 2025-02-20 17:54:25 -0500 (Thu, 20 Feb 2025) EndedAt: 2025-02-20 17:55:02 -0500 (Thu, 20 Feb 2025) EllapsedTime: 36.7 seconds RetCode: 0 Status: OK PackageFile: rain_1.41.0.tar.gz PackageFileSize: 604.6 KiB