Package: rain Version: 1.41.0 Command: /home/biocbuild/R/R/bin/R CMD INSTALL rain StartedAt: 2025-01-29 20:21:45 -0000 (Wed, 29 Jan 2025) EndedAt: 2025-01-29 20:21:54 -0000 (Wed, 29 Jan 2025) EllapsedTime: 8.6 seconds RetCode: 0 Status: OK