Package: rWikiPathways Version: 1.27.0 Command: /Library/Frameworks/R.framework/Resources/bin/R CMD build --keep-empty-dirs --no-resave-data rWikiPathways StartedAt: 2025-02-20 18:05:14 -0500 (Thu, 20 Feb 2025) EndedAt: 2025-02-20 18:05:38 -0500 (Thu, 20 Feb 2025) EllapsedTime: 24.0 seconds RetCode: 0 Status: OK PackageFile: rWikiPathways_1.27.0.tar.gz PackageFileSize: 10.38 MiB