Package: rTRMui Version: 1.45.0 Command: E:\biocbuild\bbs-3.21-bioc\R\bin\R.exe CMD check --no-multiarch --install=check:rTRMui.install-out.txt --library=E:\biocbuild\bbs-3.21-bioc\R\library --no-vignettes --timings rTRMui_1.45.0.tar.gz StartedAt: 2025-02-19 04:49:22 -0500 (Wed, 19 Feb 2025) EndedAt: 2025-02-19 04:54:47 -0500 (Wed, 19 Feb 2025) EllapsedTime: 324.7 seconds RetCode: 0 Status: OK CheckDir: rTRMui.Rcheck Warnings: 0