Package: rTRMui Version: 1.45.0 Command: rm -rf rTRMui.buildbin-libdir && mkdir rTRMui.buildbin-libdir && E:\biocbuild\bbs-3.21-bioc\R\bin\R.exe CMD INSTALL --build --library=rTRMui.buildbin-libdir rTRMui_1.45.0.tar.gz StartedAt: 2025-02-19 08:18:35 -0500 (Wed, 19 Feb 2025) EndedAt: 2025-02-19 08:19:25 -0500 (Wed, 19 Feb 2025) EllapsedTime: 49.9 seconds RetCode: 0 Status: OK PackageFile: rTRMui_1.45.0.zip PackageFileSize: 743.1 KiB