Package: rTRMui Version: 1.45.0 Command: /home/biocbuild/bbs-3.21-bioc/R/bin/R CMD INSTALL rTRMui StartedAt: 2025-02-18 15:57:11 -0500 (Tue, 18 Feb 2025) EndedAt: 2025-02-18 15:57:57 -0500 (Tue, 18 Feb 2025) EllapsedTime: 46.1 seconds RetCode: 0 Status: OK