Package: rTRMui Version: 1.45.0 Command: /home/biocbuild/bbs-3.21-bioc/R/bin/R CMD check --install=check:rTRMui.install-out.txt --library=/home/biocbuild/bbs-3.21-bioc/R/site-library --timings rTRMui_1.45.0.tar.gz StartedAt: 2025-02-19 01:44:55 -0500 (Wed, 19 Feb 2025) EndedAt: 2025-02-19 01:50:02 -0500 (Wed, 19 Feb 2025) EllapsedTime: 307.5 seconds RetCode: 0 Status: OK CheckDir: rTRMui.Rcheck Warnings: 0