Package: rTRMui Version: 1.45.0 Command: /Library/Frameworks/R.framework/Resources/bin/R CMD INSTALL rTRMui StartedAt: 2025-02-18 15:15:37 -0500 (Tue, 18 Feb 2025) EndedAt: 2025-02-18 15:15:56 -0500 (Tue, 18 Feb 2025) EllapsedTime: 18.7 seconds RetCode: 0 Status: OK