Package: rTRM Version: 1.45.0 Command: E:\biocbuild\bbs-3.21-bioc\R\bin\R.exe CMD check --no-multiarch --install=check:rTRM.install-out.txt --library=E:\biocbuild\bbs-3.21-bioc\R\library --no-vignettes --timings rTRM_1.45.0.tar.gz StartedAt: 2025-02-19 04:49:05 -0500 (Wed, 19 Feb 2025) EndedAt: 2025-02-19 04:51:12 -0500 (Wed, 19 Feb 2025) EllapsedTime: 127.3 seconds RetCode: 0 Status: OK CheckDir: rTRM.Rcheck Warnings: 0