Package: rTRM Version: 1.45.0 Command: chmod a+r rTRM -R && E:\biocbuild\bbs-3.21-bioc\R\bin\R.exe CMD build --keep-empty-dirs --no-resave-data rTRM StartedAt: 2025-02-18 21:16:16 -0500 (Tue, 18 Feb 2025) EndedAt: 2025-02-18 21:17:48 -0500 (Tue, 18 Feb 2025) EllapsedTime: 92.4 seconds RetCode: 0 Status: OK PackageFile: rTRM_1.45.0.tar.gz PackageFileSize: 3.17 MiB