Package: rTRM Version: 1.45.0 Command: /Library/Frameworks/R.framework/Resources/bin/R CMD INSTALL rTRM StartedAt: 2025-02-17 15:13:57 -0500 (Mon, 17 Feb 2025) EndedAt: 2025-02-17 15:14:19 -0500 (Mon, 17 Feb 2025) EllapsedTime: 22.0 seconds RetCode: 0 Status: OK