Package: rTRM Version: 1.45.0 Command: /Library/Frameworks/R.framework/Resources/bin/R CMD build --keep-empty-dirs --no-resave-data rTRM StartedAt: 2025-02-17 18:03:06 -0500 (Mon, 17 Feb 2025) EndedAt: 2025-02-17 18:04:02 -0500 (Mon, 17 Feb 2025) EllapsedTime: 56.0 seconds RetCode: 0 Status: OK PackageFile: rTRM_1.45.0.tar.gz PackageFileSize: 3.552 MiB