Package: rTRM Version: 1.45.0 Command: /Library/Frameworks/R.framework/Resources/bin/R CMD INSTALL rTRM StartedAt: 2025-02-17 15:08:31 -0500 (Mon, 17 Feb 2025) EndedAt: 2025-02-17 15:08:37 -0500 (Mon, 17 Feb 2025) EllapsedTime: 6.5 seconds RetCode: 0 Status: OK