Package: rTRM Version: 1.45.0 Command: /Library/Frameworks/R.framework/Resources/bin/R CMD check --install=check:rTRM.install-out.txt --library=/Library/Frameworks/R.framework/Resources/library --no-vignettes --timings rTRM_1.45.0.tar.gz StartedAt: 2025-02-17 21:08:55 -0500 (Mon, 17 Feb 2025) EndedAt: 2025-02-17 21:09:37 -0500 (Mon, 17 Feb 2025) EllapsedTime: 42.5 seconds RetCode: 0 Status: OK CheckDir: rTRM.Rcheck Warnings: 0