Package: rScudo Version: 1.23.0 Command: rm -rf rScudo.buildbin-libdir && mkdir rScudo.buildbin-libdir && E:\biocbuild\bbs-3.21-bioc\R\bin\R.exe CMD INSTALL --build --library=rScudo.buildbin-libdir rScudo_1.23.0.tar.gz StartedAt: 2025-02-19 08:17:46 -0500 (Wed, 19 Feb 2025) EndedAt: 2025-02-19 08:18:06 -0500 (Wed, 19 Feb 2025) EllapsedTime: 20.2 seconds RetCode: 0 Status: OK PackageFile: rScudo_1.23.0.zip PackageFileSize: 586.7 KiB