Package: rScudo Version: 1.23.0 Command: /Library/Frameworks/R.framework/Resources/bin/R CMD INSTALL rScudo StartedAt: 2025-02-18 15:04:47 -0500 (Tue, 18 Feb 2025) EndedAt: 2025-02-18 15:04:50 -0500 (Tue, 18 Feb 2025) EllapsedTime: 2.2 seconds RetCode: 0 Status: OK