Package: rRDP Version: 1.41.0 Command: chmod a+r rRDP -R && E:\biocbuild\bbs-3.21-bioc\R\bin\R.exe CMD build --keep-empty-dirs --no-resave-data rRDP StartedAt: 2025-02-18 21:14:04 -0500 (Tue, 18 Feb 2025) EndedAt: 2025-02-18 21:14:42 -0500 (Tue, 18 Feb 2025) EllapsedTime: 37.9 seconds RetCode: 0 Status: OK PackageFile: rRDP_1.41.0.tar.gz PackageFileSize: 2.594 MiB