Package: rRDP Version: 1.41.0 Command: rm -rf rRDP.buildbin-libdir && mkdir rRDP.buildbin-libdir && E:\biocbuild\bbs-3.21-bioc\R\bin\R.exe CMD INSTALL --build --library=rRDP.buildbin-libdir rRDP_1.41.0.tar.gz StartedAt: 2025-02-19 08:17:28 -0500 (Wed, 19 Feb 2025) EndedAt: 2025-02-19 08:17:46 -0500 (Wed, 19 Feb 2025) EllapsedTime: 17.1 seconds RetCode: 0 Status: OK PackageFile: rRDP_1.41.0.zip PackageFileSize: 2.628 MiB