Package: rRDP Version: 1.41.0 Command: /home/biocbuild/bbs-3.21-bioc/R/bin/R CMD INSTALL rRDP StartedAt: 2025-02-18 15:13:19 -0500 (Tue, 18 Feb 2025) EndedAt: 2025-02-18 15:13:28 -0500 (Tue, 18 Feb 2025) EllapsedTime: 9.7 seconds RetCode: 0 Status: OK