Package: rRDP Version: 1.41.0 Command: /Library/Frameworks/R.framework/Resources/bin/R CMD INSTALL rRDP StartedAt: 2025-02-18 15:04:24 -0500 (Tue, 18 Feb 2025) EndedAt: 2025-02-18 15:04:28 -0500 (Tue, 18 Feb 2025) EllapsedTime: 4.1 seconds RetCode: 0 Status: OK