Package: rGenomeTracks Version: 1.13.0 Command: E:\biocbuild\bbs-3.21-bioc\R\bin\R.exe CMD check --no-multiarch --install=check:rGenomeTracks.install-out.txt --library=E:\biocbuild\bbs-3.21-bioc\R\library --no-vignettes --timings rGenomeTracks_1.13.0.tar.gz StartedAt: 2025-02-21 04:58:08 -0500 (Fri, 21 Feb 2025) EndedAt: 2025-02-21 04:59:14 -0500 (Fri, 21 Feb 2025) EllapsedTime: 66.1 seconds RetCode: 0 Status: OK CheckDir: rGenomeTracks.Rcheck Warnings: 0