Package: rGenomeTracks Version: 1.13.0 Command: chmod a+r rGenomeTracks -R && E:\biocbuild\bbs-3.21-bioc\R\bin\R.exe CMD build --keep-empty-dirs --no-resave-data rGenomeTracks StartedAt: 2025-02-20 21:14:26 -0500 (Thu, 20 Feb 2025) EndedAt: 2025-02-20 21:15:12 -0500 (Thu, 20 Feb 2025) EllapsedTime: 45.9 seconds RetCode: 0 Status: OK PackageFile: rGenomeTracks_1.13.0.tar.gz PackageFileSize: 3.341 MiB