Package: rGenomeTracks Version: 1.13.0 Command: rm -rf rGenomeTracks.buildbin-libdir && mkdir rGenomeTracks.buildbin-libdir && E:\biocbuild\bbs-3.21-bioc\R\bin\R.exe CMD INSTALL --build --library=rGenomeTracks.buildbin-libdir rGenomeTracks_1.13.0.tar.gz StartedAt: 2025-02-21 08:54:35 -0500 (Fri, 21 Feb 2025) EndedAt: 2025-02-21 08:55:03 -0500 (Fri, 21 Feb 2025) EllapsedTime: 28.6 seconds RetCode: 0 Status: OK PackageFile: rGenomeTracks_1.13.0.zip PackageFileSize: 3.404 MiB