Package: rGenomeTracks Version: 1.13.0 Command: /Library/Frameworks/R.framework/Resources/bin/R CMD check --install=check:rGenomeTracks.install-out.txt --library=/Library/Frameworks/R.framework/Resources/library --no-vignettes --timings rGenomeTracks_1.13.0.tar.gz StartedAt: 2025-02-19 22:45:16 -0500 (Wed, 19 Feb 2025) EndedAt: 2025-02-19 22:46:15 -0500 (Wed, 19 Feb 2025) EllapsedTime: 59.6 seconds RetCode: 0 Status: OK CheckDir: rGenomeTracks.Rcheck Warnings: 0