Package: rGenomeTracks Version: 1.13.0 Command: rm -rf rGenomeTracks.buildbin-libdir && mkdir rGenomeTracks.buildbin-libdir && /Users/biocbuild/BBS/utils/build-universal.sh rGenomeTracks_1.13.0.tar.gz /Library/Frameworks/R.framework/Resources/bin/R rGenomeTracks.buildbin-libdir StartedAt: 2025-02-20 00:49:57 -0500 (Thu, 20 Feb 2025) EndedAt: 2025-02-20 00:50:10 -0500 (Thu, 20 Feb 2025) EllapsedTime: 12.7 seconds RetCode: 0 Status: OK PackageFile: rGenomeTracks_1.13.0.tgz PackageFileSize: 3.41 MiB