Package: rGenomeTracks Version: 1.13.0 Command: /Library/Frameworks/R.framework/Resources/bin/R CMD build --keep-empty-dirs --no-resave-data rGenomeTracks StartedAt: 2025-02-19 17:24:25 -0500 (Wed, 19 Feb 2025) EndedAt: 2025-02-19 17:24:30 -0500 (Wed, 19 Feb 2025) EllapsedTime: 5.1 seconds RetCode: 0 Status: OK PackageFile: rGenomeTracks_1.13.0.tar.gz PackageFileSize: 3.345 MiB