Package: rGREAT Version: 2.9.0 Command: E:\biocbuild\bbs-3.21-bioc\R\bin\R.exe CMD INSTALL rGREAT StartedAt: 2025-02-20 16:28:58 -0500 (Thu, 20 Feb 2025) EndedAt: 2025-02-20 16:30:17 -0500 (Thu, 20 Feb 2025) EllapsedTime: 78.4 seconds RetCode: 0 Status: OK